BEGIN:VCALENDAR
VERSION:2.0
PRODID:-//Crowthorne &amp; Sandhurst       Art Society - ECPv6.15.16//NONSGML v1.0//EN
CALSCALE:GREGORIAN
METHOD:PUBLISH
X-WR-CALNAME:Crowthorne &amp; Sandhurst       Art Society
X-ORIGINAL-URL:https://casart.co.uk
X-WR-CALDESC:Events for Crowthorne &amp; Sandhurst       Art Society
REFRESH-INTERVAL;VALUE=DURATION:PT1H
X-Robots-Tag:noindex
X-PUBLISHED-TTL:PT1H
BEGIN:VTIMEZONE
TZID:Europe/London
BEGIN:DAYLIGHT
TZOFFSETFROM:+0000
TZOFFSETTO:+0100
TZNAME:BST
DTSTART:20220327T010000
END:DAYLIGHT
BEGIN:STANDARD
TZOFFSETFROM:+0100
TZOFFSETTO:+0000
TZNAME:GMT
DTSTART:20221030T010000
END:STANDARD
BEGIN:DAYLIGHT
TZOFFSETFROM:+0000
TZOFFSETTO:+0100
TZNAME:BST
DTSTART:20230326T010000
END:DAYLIGHT
BEGIN:STANDARD
TZOFFSETFROM:+0100
TZOFFSETTO:+0000
TZNAME:GMT
DTSTART:20231029T010000
END:STANDARD
BEGIN:DAYLIGHT
TZOFFSETFROM:+0000
TZOFFSETTO:+0100
TZNAME:BST
DTSTART:20240331T010000
END:DAYLIGHT
BEGIN:STANDARD
TZOFFSETFROM:+0100
TZOFFSETTO:+0000
TZNAME:GMT
DTSTART:20241027T010000
END:STANDARD
END:VTIMEZONE
BEGIN:VEVENT
DTSTART;TZID=Europe/London:20230623T193000
DTEND;TZID=Europe/London:20230624T170000
DTSTAMP:20260421T051159
CREATED:20230121T142645Z
LAST-MODIFIED:20230201T144742Z
UID:6334-1687548600-1687626000@casart.co.uk
SUMMARY:Urban Scene in pastels or acrylics by Joel Wareing
DESCRIPTION:Demonstration Friday\, Workshop Saturday
URL:https://casart.co.uk/event/urban-scene-in-pastels-or-acrylics-by-joel-wareing/
LOCATION:St Sebastian’s Memorial Hall\, Nine Mile Ride\, Crowthorne\, RG40 3BA\, United Kingdom
ATTACH;FMTTYPE=image/jpeg:https://casart.co.uk/wp-content/uploads/2022/12/Joel-Wareing-June.jpg
END:VEVENT
BEGIN:VEVENT
DTSTART;TZID=Europe/London:20230609T193000
DTEND;TZID=Europe/London:20230609T213000
DTSTAMP:20260421T051159
CREATED:20230121T142454Z
LAST-MODIFIED:20230201T144806Z
UID:6333-1686339000-1686346200@casart.co.uk
SUMMARY:Modern take on Klimt in oils and drawing media by Rosso Emberal Crimson
DESCRIPTION:
URL:https://casart.co.uk/event/modern-take-on-klimt-in-oils-and-drawing-media-by-rosso-emberal-crimson/
LOCATION:St Sebastian’s Memorial Hall\, Nine Mile Ride\, Crowthorne\, RG40 3BA\, United Kingdom
ATTACH;FMTTYPE=image/jpeg:https://casart.co.uk/wp-content/uploads/2022/12/Rosso-Emeral-Crimson-June.jpg
END:VEVENT
BEGIN:VEVENT
DTSTART;TZID=Europe/London:20230512T193000
DTEND;TZID=Europe/London:20230512T213000
DTSTAMP:20260421T051159
CREATED:20230121T142149Z
LAST-MODIFIED:20230201T144833Z
UID:6332-1683919800-1683927000@casart.co.uk
SUMMARY:Garden Scene in pastels / mixed media by Rick Holmes
DESCRIPTION:
URL:https://casart.co.uk/event/garden-scene-in-pastels-mixed-media-by-rick-holmes/
LOCATION:St Sebastian’s Memorial Hall\, Nine Mile Ride\, Crowthorne\, RG40 3BA\, United Kingdom
ATTACH;FMTTYPE=image/webp:https://casart.co.uk/wp-content/uploads/2022/12/Rick-Holmes-May.webp
END:VEVENT
BEGIN:VEVENT
DTSTART;TZID=Europe/London:20230422T000000
DTEND;TZID=Europe/London:20230423T235959
DTSTAMP:20260421T051159
CREATED:20230121T142010Z
LAST-MODIFIED:20230201T144859Z
UID:6329-1682121600-1682294399@casart.co.uk
SUMMARY:Spring Exhibition
DESCRIPTION:
URL:https://casart.co.uk/event/spring-exhibition/
LOCATION:Pastoral Centre\, St. Michael’s Parish Hall\, Lower Church Road\, Sandhurst\, GU47 8HN\, United Kingdom
ATTACH;FMTTYPE=image/jpeg:https://casart.co.uk/wp-content/uploads/2023/01/Spring-exhibition2.jpg
END:VEVENT
BEGIN:VEVENT
DTSTART;TZID=Europe/London:20230324T193000
DTEND;TZID=Europe/London:20230324T213000
DTSTAMP:20260421T051159
CREATED:20230121T141615Z
LAST-MODIFIED:20230201T144918Z
UID:6328-1679686200-1679693400@casart.co.uk
SUMMARY:African theme in mixed media by Jenny Whalley
DESCRIPTION:
URL:https://casart.co.uk/event/african-theme-in-mixed-media-by-jenny-whalley/
LOCATION:St Sebastian’s Memorial Hall\, Nine Mile Ride\, Crowthorne\, RG40 3BA\, United Kingdom
ATTACH;FMTTYPE=image/webp:https://casart.co.uk/wp-content/uploads/2022/12/Jenny-Whalley-Mar.webp
END:VEVENT
BEGIN:VEVENT
DTSTART;TZID=Europe/London:20230310T193000
DTEND;TZID=Europe/London:20230310T213000
DTSTAMP:20260421T051159
CREATED:20230121T141209Z
LAST-MODIFIED:20230225T104906Z
UID:6327-1678476600-1678483800@casart.co.uk
SUMMARY:Underwater scene in mixed media by Susan Clare
DESCRIPTION:Zoom demonstration
URL:https://casart.co.uk/event/underwater-scene-in-mixed-media-by-susan-clare/
ATTACH;FMTTYPE=image/jpeg:https://casart.co.uk/wp-content/uploads/2022/12/Susan-Clare-Mar-Zoom.jpg
END:VEVENT
BEGIN:VEVENT
DTSTART;TZID=Europe/London:20230224T193000
DTEND;TZID=Europe/London:20230225T170000
DTSTAMP:20260421T051159
CREATED:20230121T141114Z
LAST-MODIFIED:20230201T145004Z
UID:6326-1677267000-1677344400@casart.co.uk
SUMMARY:Inks by Caroline Crawford
DESCRIPTION:Demonstration Friday\, Workshop Saturday
URL:https://casart.co.uk/event/inks-by-caroline-crawford/
ATTACH;FMTTYPE=image/webp:https://casart.co.uk/wp-content/uploads/2022/12/Caroline-Crawford-Feb.webp
END:VEVENT
BEGIN:VEVENT
DTSTART;TZID=Europe/London:20230210T193000
DTEND;TZID=Europe/London:20230210T213000
DTSTAMP:20260421T051159
CREATED:20230121T140915Z
LAST-MODIFIED:20230201T144258Z
UID:6325-1676057400-1676064600@casart.co.uk
SUMMARY:Plein-air painting in oils by Tushar Sabale
DESCRIPTION:
URL:https://casart.co.uk/event/plein-air-painting-in-oils-by-tushar-sabale/
LOCATION:St Sebastian’s Memorial Hall\, Nine Mile Ride\, Crowthorne\, RG40 3BA\, United Kingdom
ATTACH;FMTTYPE=image/jpeg:https://casart.co.uk/wp-content/uploads/2022/12/Tushar-Sabale-Feb-1.jpg
END:VEVENT
BEGIN:VEVENT
DTSTART;TZID=Europe/London:20230127T193000
DTEND;TZID=Europe/London:20230127T210000
DTSTAMP:20260421T051159
CREATED:20230121T140800Z
LAST-MODIFIED:20230201T145035Z
UID:6323-1674847800-1674853200@casart.co.uk
SUMMARY:Linocut printmaking by Laura Boswell
DESCRIPTION:Zoom demonstration
URL:https://casart.co.uk/event/linocut-printmaking-by-laura-boswell/
LOCATION:St Sebastian’s Memorial Hall\, Nine Mile Ride\, Crowthorne\, RG40 3BA\, United Kingdom
ATTACH;FMTTYPE=image/jpeg:https://casart.co.uk/wp-content/uploads/2022/12/Laura-Boswell.jpg
END:VEVENT
END:VCALENDAR