BEGIN:VCALENDAR
VERSION:2.0
PRODID:-//Crowthorne &amp; Sandhurst       Art Society - ECPv6.15.16//NONSGML v1.0//EN
CALSCALE:GREGORIAN
METHOD:PUBLISH
X-ORIGINAL-URL:https://casart.co.uk
X-WR-CALDESC:Events for Crowthorne &amp; Sandhurst       Art Society
REFRESH-INTERVAL;VALUE=DURATION:PT1H
X-Robots-Tag:noindex
X-PUBLISHED-TTL:PT1H
BEGIN:VTIMEZONE
TZID:Europe/London
BEGIN:DAYLIGHT
TZOFFSETFROM:+0000
TZOFFSETTO:+0100
TZNAME:BST
DTSTART:20230326T010000
END:DAYLIGHT
BEGIN:STANDARD
TZOFFSETFROM:+0100
TZOFFSETTO:+0000
TZNAME:GMT
DTSTART:20231029T010000
END:STANDARD
BEGIN:DAYLIGHT
TZOFFSETFROM:+0000
TZOFFSETTO:+0100
TZNAME:BST
DTSTART:20240331T010000
END:DAYLIGHT
BEGIN:STANDARD
TZOFFSETFROM:+0100
TZOFFSETTO:+0000
TZNAME:GMT
DTSTART:20241027T010000
END:STANDARD
BEGIN:DAYLIGHT
TZOFFSETFROM:+0000
TZOFFSETTO:+0100
TZNAME:BST
DTSTART:20250330T010000
END:DAYLIGHT
BEGIN:STANDARD
TZOFFSETFROM:+0100
TZOFFSETTO:+0000
TZNAME:GMT
DTSTART:20251026T010000
END:STANDARD
BEGIN:DAYLIGHT
TZOFFSETFROM:+0000
TZOFFSETTO:+0100
TZNAME:BST
DTSTART:20260329T010000
END:DAYLIGHT
BEGIN:STANDARD
TZOFFSETFROM:+0100
TZOFFSETTO:+0000
TZNAME:GMT
DTSTART:20261025T010000
END:STANDARD
END:VTIMEZONE
BEGIN:VEVENT
DTSTART;TZID=Europe/London:20240112T193000
DTEND;TZID=Europe/London:20240112T213000
DTSTAMP:20260421T144230
CREATED:20231216T133048Z
LAST-MODIFIED:20231229T204659Z
UID:16689-1705087800-1705095000@casart.co.uk
SUMMARY:London Scene in mixed media by Jenny Whalley
DESCRIPTION:
URL:https://casart.co.uk/event/london-scene-in-mixed-media-by-jenny-whalley/
LOCATION:St Sebastian’s Memorial Hall\, Nine Mile Ride\, Crowthorne\, RG40 3BA\, United Kingdom
ATTACH;FMTTYPE=image/jpeg:https://casart.co.uk/wp-content/uploads/2023/12/JennyWhalley.jpg
END:VEVENT
BEGIN:VEVENT
DTSTART;TZID=Europe/London:20240126T193000
DTEND;TZID=Europe/London:20240126T213000
DTSTAMP:20260421T144230
CREATED:20231216T133408Z
LAST-MODIFIED:20231218T200106Z
UID:16690-1706297400-1706304600@casart.co.uk
SUMMARY:Boatyard Scene in water based media by Chris Forsey
DESCRIPTION:Zoom demonstration
URL:https://casart.co.uk/event/boatyard-scene-in-water-based-media-by-chris-forsey/
ATTACH;FMTTYPE=image/jpeg:https://casart.co.uk/wp-content/uploads/2023/12/ChrisForsey.jpg
END:VEVENT
BEGIN:VEVENT
DTSTART;TZID=Europe/London:20240209T193000
DTEND;TZID=Europe/London:20240209T213000
DTSTAMP:20260421T144230
CREATED:20231216T133527Z
LAST-MODIFIED:20231218T200152Z
UID:16691-1707507000-1707514200@casart.co.uk
SUMMARY:Still Life in oils by Max Hale
DESCRIPTION:
URL:https://casart.co.uk/event/still-life-in-oils-by-max-hale/
LOCATION:St Sebastian’s Memorial Hall\, Nine Mile Ride\, Crowthorne\, RG40 3BA\, United Kingdom
ATTACH;FMTTYPE=image/jpeg:https://casart.co.uk/wp-content/uploads/2023/12/MaxHale.jpg
END:VEVENT
BEGIN:VEVENT
DTSTART;TZID=Europe/London:20240223T193000
DTEND;TZID=Europe/London:20240224T170000
DTSTAMP:20260421T144230
CREATED:20231216T133823Z
LAST-MODIFIED:20231218T200230Z
UID:16692-1708716600-1708794000@casart.co.uk
SUMMARY:Texture in watercolour by Kevin Scully
DESCRIPTION:Demonstration Friday\, Workshop Saturday
URL:https://casart.co.uk/event/texture-in-watercolour-by-kevin-scully/
LOCATION:St Sebastian’s Memorial Hall\, Nine Mile Ride\, Crowthorne\, RG40 3BA\, United Kingdom
ATTACH;FMTTYPE=image/jpeg:https://casart.co.uk/wp-content/uploads/2023/12/KevinSculley.jpg
END:VEVENT
BEGIN:VEVENT
DTSTART;TZID=Europe/London:20240308T193000
DTEND;TZID=Europe/London:20240308T213000
DTSTAMP:20260421T144230
CREATED:20231216T135841Z
LAST-MODIFIED:20231218T200304Z
UID:16694-1709926200-1709933400@casart.co.uk
SUMMARY:Wildlife in watercolour by Tom Shepherd
DESCRIPTION:Zoom demonstration
URL:https://casart.co.uk/event/wildlife-in-watercolour-by-tom-shepherd/
ATTACH;FMTTYPE=image/jpeg:https://casart.co.uk/wp-content/uploads/2023/12/TomShepherd.jpg
END:VEVENT
BEGIN:VEVENT
DTSTART;TZID=Europe/London:20240322T193000
DTEND;TZID=Europe/London:20240322T213000
DTSTAMP:20260421T144230
CREATED:20231216T140153Z
LAST-MODIFIED:20231218T200401Z
UID:16695-1711135800-1711143000@casart.co.uk
SUMMARY:Landscape gardens in Pastels on Acrylic by Rick Holmes
DESCRIPTION:
URL:https://casart.co.uk/event/landscape-gardens-in-pastels-on-acrylic-by-rick-holmes/
LOCATION:St Sebastian’s Memorial Hall\, Nine Mile Ride\, Crowthorne\, RG40 3BA\, United Kingdom
ATTACH;FMTTYPE=image/jpeg:https://casart.co.uk/wp-content/uploads/2023/12/RickHolmes.jpg
END:VEVENT
BEGIN:VEVENT
DTSTART;TZID=Europe/London:20240413T000000
DTEND;TZID=Europe/London:20240414T235959
DTSTAMP:20260421T144230
CREATED:20231222T110953Z
LAST-MODIFIED:20231222T111957Z
UID:16728-1712966400-1713139199@casart.co.uk
SUMMARY:Spring Exhibition
DESCRIPTION:
URL:https://casart.co.uk/event/spring-exhibition-2/
LOCATION:Pastoral Centre\, St. Michael’s Parish Hall\, Lower Church Road\, Sandhurst\, GU47 8HN\, United Kingdom
ATTACH;FMTTYPE=image/jpeg:https://casart.co.uk/wp-content/uploads/2023/12/Spring-Exhibition.jpg
END:VEVENT
BEGIN:VEVENT
DTSTART;TZID=Europe/London:20240426T193000
DTEND;TZID=Europe/London:20240426T213000
DTSTAMP:20260421T144230
CREATED:20231216T140624Z
LAST-MODIFIED:20231218T200440Z
UID:16696-1714159800-1714167000@casart.co.uk
SUMMARY:Still Life in oils by Paul Oakley
DESCRIPTION:
URL:https://casart.co.uk/event/still-life-in-oils-by-paul-oakley/
LOCATION:St Sebastian’s Memorial Hall\, Nine Mile Ride\, Crowthorne\, RG40 3BA\, United Kingdom
ATTACH;FMTTYPE=image/jpeg:https://casart.co.uk/wp-content/uploads/2023/12/PaulOakley.jpg
END:VEVENT
BEGIN:VEVENT
DTSTART;TZID=Europe/London:20240427T000000
DTEND;TZID=Europe/London:20240427T235959
DTSTAMP:20260421T144230
CREATED:20231216T140807Z
LAST-MODIFIED:20231216T140807Z
UID:16697-1714176000-1714262399@casart.co.uk
SUMMARY:STILL LIFE ARTIST of the YEAR
DESCRIPTION:
URL:https://casart.co.uk/event/still-life-artist-of-the-year/
END:VEVENT
BEGIN:VEVENT
DTSTART;TZID=Europe/London:20240510T193000
DTEND;TZID=Europe/London:20240510T213000
DTSTAMP:20260421T144230
CREATED:20231216T141036Z
LAST-MODIFIED:20231218T200520Z
UID:16698-1715369400-1715376600@casart.co.uk
SUMMARY:Landscape in watercolour by Frank Walters
DESCRIPTION:
URL:https://casart.co.uk/event/landscape-in-watercolour-by-frank-walters/
LOCATION:St Sebastian’s Memorial Hall\, Nine Mile Ride\, Crowthorne\, RG40 3BA\, United Kingdom
ATTACH;FMTTYPE=image/jpeg:https://casart.co.uk/wp-content/uploads/2023/12/FrankWalters.jpg
END:VEVENT
BEGIN:VEVENT
DTSTART;TZID=Europe/London:20240607T193000
DTEND;TZID=Europe/London:20240608T170000
DTSTAMP:20260421T144230
CREATED:20231216T141530Z
LAST-MODIFIED:20231218T200605Z
UID:16699-1717788600-1717866000@casart.co.uk
SUMMARY:Waterways in oils by Jan Gaska
DESCRIPTION:Demonstration Friday\, Workshop Saturday
URL:https://casart.co.uk/event/waterways-in-oils-by-jan-gaska/
LOCATION:St Sebastian’s Memorial Hall\, Nine Mile Ride\, Crowthorne\, RG40 3BA\, United Kingdom
ATTACH;FMTTYPE=image/jpeg:https://casart.co.uk/wp-content/uploads/2023/12/JanGaska.jpg
END:VEVENT
BEGIN:VEVENT
DTSTART;TZID=Europe/London:20240621T193000
DTEND;TZID=Europe/London:20240621T213000
DTSTAMP:20260421T144230
CREATED:20231216T142053Z
LAST-MODIFIED:20231218T200648Z
UID:16700-1718998200-1719005400@casart.co.uk
SUMMARY:Portrait in oils by Stewart Beckett
DESCRIPTION:
URL:https://casart.co.uk/event/portrait-in-oils-by-stewart-beckett/
LOCATION:St Sebastian’s Memorial Hall\, Nine Mile Ride\, Crowthorne\, RG40 3BA\, United Kingdom
ATTACH;FMTTYPE=image/jpeg:https://casart.co.uk/wp-content/uploads/2023/12/StewartBeckett.jpg
END:VEVENT
BEGIN:VEVENT
DTSTART;TZID=Europe/London:20240802T000000
DTEND;TZID=Europe/London:20240802T235959
DTSTAMP:20260421T144230
CREATED:20240102T101630Z
LAST-MODIFIED:20240102T101922Z
UID:16771-1722556800-1722643199@casart.co.uk
SUMMARY:BBQ
DESCRIPTION:
URL:https://casart.co.uk/event/bbq/
ATTACH;FMTTYPE=image/jpeg:https://casart.co.uk/wp-content/uploads/2024/01/BBQ.jpg
END:VEVENT
BEGIN:VEVENT
DTSTART;TZID=Europe/London:20240906T193000
DTEND;TZID=Europe/London:20240906T213000
DTSTAMP:20260421T144230
CREATED:20231216T142732Z
LAST-MODIFIED:20231218T200724Z
UID:16701-1725651000-1725658200@casart.co.uk
SUMMARY:Portrait in oils by Mark Fennell
DESCRIPTION:
URL:https://casart.co.uk/event/portrait-in-oils-by-mark-fennell/
LOCATION:St Sebastian’s Memorial Hall\, Nine Mile Ride\, Crowthorne\, RG40 3BA\, United Kingdom
ATTACH;FMTTYPE=image/jpeg:https://casart.co.uk/wp-content/uploads/2023/12/MarkFennell.jpg
END:VEVENT
BEGIN:VEVENT
DTSTART;TZID=Europe/London:20240920T193000
DTEND;TZID=Europe/London:20240921T170000
DTSTAMP:20260421T144230
CREATED:20231216T142941Z
LAST-MODIFIED:20231218T200800Z
UID:16702-1726860600-1726938000@casart.co.uk
SUMMARY:Urban architectural scape in acrylics by Colin Brown
DESCRIPTION:Demonstration Friday\, Workshop Saturday
URL:https://casart.co.uk/event/urban-architectural-scape-in-acrylics/
LOCATION:St Sebastian’s Memorial Hall\, Nine Mile Ride\, Crowthorne\, RG40 3BA\, United Kingdom
ATTACH;FMTTYPE=image/jpeg:https://casart.co.uk/wp-content/uploads/2023/12/ColinBrown.jpg
END:VEVENT
BEGIN:VEVENT
DTSTART;TZID=Europe/London:20241011T193000
DTEND;TZID=Europe/London:20241011T213000
DTSTAMP:20260421T144230
CREATED:20231216T143131Z
LAST-MODIFIED:20231218T200849Z
UID:16703-1728675000-1728682200@casart.co.uk
SUMMARY:Landscape in oils by Rodney Kingston
DESCRIPTION:
URL:https://casart.co.uk/event/landscape-in-oils-by-rodney-kingston/
LOCATION:St Sebastian’s Memorial Hall\, Nine Mile Ride\, Crowthorne\, RG40 3BA\, United Kingdom
ATTACH;FMTTYPE=image/jpeg:https://casart.co.uk/wp-content/uploads/2023/12/RodneyKingston.jpg
END:VEVENT
BEGIN:VEVENT
DTSTART;TZID=Europe/London:20241025T000000
DTEND;TZID=Europe/London:20241027T235959
DTSTAMP:20260421T144230
CREATED:20231222T111125Z
LAST-MODIFIED:20231222T112429Z
UID:16729-1729814400-1730073599@casart.co.uk
SUMMARY:Annual Exhibition
DESCRIPTION:
URL:https://casart.co.uk/event/annual-exhibition-2/
LOCATION:St Sebastian’s Memorial Hall\, Nine Mile Ride\, Crowthorne\, RG40 3BA\, United Kingdom
ATTACH;FMTTYPE=image/jpeg:https://casart.co.uk/wp-content/uploads/2023/12/AnnualExhibition.jpg
END:VEVENT
BEGIN:VEVENT
DTSTART;TZID=Europe/London:20241108T000000
DTEND;TZID=Europe/London:20241108T235959
DTSTAMP:20260421T144230
CREATED:20240102T110254Z
LAST-MODIFIED:20240102T110254Z
UID:16776-1731024000-1731110399@casart.co.uk
SUMMARY:AGM
DESCRIPTION:
URL:https://casart.co.uk/event/agm/
LOCATION:St Sebastian’s Memorial Hall\, Nine Mile Ride\, Crowthorne\, RG40 3BA\, United Kingdom
END:VEVENT
BEGIN:VEVENT
DTSTART;TZID=Europe/London:20241122T193000
DTEND;TZID=Europe/London:20241122T213000
DTSTAMP:20260421T144230
CREATED:20231216T143311Z
LAST-MODIFIED:20231218T200930Z
UID:16704-1732303800-1732311000@casart.co.uk
SUMMARY:Colourful crowd scene in oils by Anne Blankson-Hemans
DESCRIPTION:Zoom demonstration
URL:https://casart.co.uk/event/colourful-crowd-scene-in-oils-by-anne-blankson-hemans/
ATTACH;FMTTYPE=image/jpeg:https://casart.co.uk/wp-content/uploads/2023/12/AnneBlankson-Hemans.jpg
END:VEVENT
BEGIN:VEVENT
DTSTART;TZID=Europe/London:20241207T193000
DTEND;TZID=Europe/London:20241207T213000
DTSTAMP:20260421T144230
CREATED:20231216T143444Z
LAST-MODIFIED:20231221T145945Z
UID:16705-1733599800-1733607000@casart.co.uk
SUMMARY:Christmas Social
DESCRIPTION:
URL:https://casart.co.uk/event/christmas-social/
ATTACH;FMTTYPE=image/jpeg:https://casart.co.uk/wp-content/uploads/2023/12/ChristmasSocial.jpg
END:VEVENT
BEGIN:VEVENT
DTSTART;TZID=Europe/London:20241211T130000
DTEND;TZID=Europe/London:20241211T154500
DTSTAMP:20260421T144230
CREATED:20231216T143550Z
LAST-MODIFIED:20240102T120643Z
UID:16706-1733922000-1733931900@casart.co.uk
SUMMARY:Last Wednesday afternoon painting session of the year
DESCRIPTION:
URL:https://casart.co.uk/event/last-wednesday-afternoon-painting-session-2/
LOCATION:St Sebastian’s Memorial Hall\, Nine Mile Ride\, Crowthorne\, RG40 3BA\, United Kingdom
ATTACH;FMTTYPE=image/jpeg:https://casart.co.uk/wp-content/uploads/2023/12/LastWednesday.jpg
END:VEVENT
BEGIN:VEVENT
DTSTART;TZID=Europe/London:20250108T130000
DTEND;TZID=Europe/London:20250108T154500
DTSTAMP:20260421T144230
CREATED:20241124T145540Z
LAST-MODIFIED:20241124T145540Z
UID:16793-1736341200-1736351100@casart.co.uk
SUMMARY:First Wednesday afternoon painting session of the new year
DESCRIPTION:
URL:https://casart.co.uk/event/first-wednesday-afternoon-painting-session-of-the-new-year/
LOCATION:St Sebastian’s Memorial Hall\, Nine Mile Ride\, Crowthorne\, RG40 3BA\, United Kingdom
ATTACH;FMTTYPE=image/jpeg:https://casart.co.uk/wp-content/uploads/2023/12/FirstWednesday.jpg
END:VEVENT
BEGIN:VEVENT
DTSTART;TZID=Europe/London:20250117T193000
DTEND;TZID=Europe/London:20250117T213000
DTSTAMP:20260421T144230
CREATED:20241124T145810Z
LAST-MODIFIED:20250120T155339Z
UID:16795-1737142200-1737149400@casart.co.uk
SUMMARY:Animals and wild life in pastel/drawing media by Andrew Forkner
DESCRIPTION:
URL:https://casart.co.uk/event/animals-and-wild-life-by-andrew-forkner/
LOCATION:St Sebastian’s Memorial Hall\, Nine Mile Ride\, Crowthorne\, RG40 3BA\, United Kingdom
ATTACH;FMTTYPE=image/jpeg:https://casart.co.uk/wp-content/uploads/2024/11/Andrew-Forkner-Owl.jpeg
END:VEVENT
BEGIN:VEVENT
DTSTART;TZID=Europe/London:20250131T193000
DTEND;TZID=Europe/London:20250131T213000
DTSTAMP:20260421T144230
CREATED:20241124T150139Z
LAST-MODIFIED:20250120T155316Z
UID:16800-1738351800-1738359000@casart.co.uk
SUMMARY:City/Townscape by Tom Hughes
DESCRIPTION:Zoom demonstration
URL:https://casart.co.uk/event/city-townscape-by-tom-hughes/
ATTACH;FMTTYPE=image/jpeg:https://casart.co.uk/wp-content/uploads/2024/11/Tom-Hughes-Hampstead.jpg
END:VEVENT
BEGIN:VEVENT
DTSTART;TZID=Europe/London:20250214T193000
DTEND;TZID=Europe/London:20250214T213000
DTSTAMP:20260421T144230
CREATED:20241124T150612Z
LAST-MODIFIED:20250213T112140Z
UID:16804-1739561400-1739568600@casart.co.uk
SUMMARY:Landscape in oil/acrylic by Peter Keegan - CANCELLED
DESCRIPTION:Event cancelled due to personal reasons
URL:https://casart.co.uk/event/landscape-in-oil-acrylic-by-peter-keegan/
LOCATION:St Sebastian’s Memorial Hall\, Nine Mile Ride\, Crowthorne\, RG40 3BA\, United Kingdom
ATTACH;FMTTYPE=image/jpeg:https://casart.co.uk/wp-content/uploads/2024/11/Peter-Keegan-Landscape.jpeg
END:VEVENT
BEGIN:VEVENT
DTSTART;TZID=Europe/London:20250228T193000
DTEND;TZID=Europe/London:20250301T170000
DTSTAMP:20260421T144230
CREATED:20241124T150853Z
LAST-MODIFIED:20250120T155237Z
UID:16807-1740771000-1740848400@casart.co.uk
SUMMARY:Charcoal portrait by Mick McNicholas
DESCRIPTION:Demonstration Friday\, Workshop Saturday
URL:https://casart.co.uk/event/charcoal-portrait-by-mick-mcnicholas/
LOCATION:St Sebastian’s Memorial Hall\, Nine Mile Ride\, Crowthorne\, RG40 3BA\, United Kingdom
ATTACH;FMTTYPE=image/jpeg:https://casart.co.uk/wp-content/uploads/2024/11/Mick-McNicholas.jpg
END:VEVENT
BEGIN:VEVENT
DTSTART;TZID=Europe/London:20250314T193000
DTEND;TZID=Europe/London:20250314T213000
DTSTAMP:20260421T144230
CREATED:20241124T151229Z
LAST-MODIFIED:20250120T155207Z
UID:16811-1741980600-1741987800@casart.co.uk
SUMMARY:Sea/rivers/landscape drawing by Tom Wilmot
DESCRIPTION:Zoom demonstration
URL:https://casart.co.uk/event/sea-rivers-landscape-drawing-by-tom-wilmot/
ATTACH;FMTTYPE=image/jpeg:https://casart.co.uk/wp-content/uploads/2024/11/Tom-Wilmot-Sea-Rivers.jpg
END:VEVENT
BEGIN:VEVENT
DTSTART;TZID=Europe/London:20250328T193000
DTEND;TZID=Europe/London:20250328T213000
DTSTAMP:20260421T144230
CREATED:20241124T152246Z
LAST-MODIFIED:20250120T155133Z
UID:16814-1743190200-1743197400@casart.co.uk
SUMMARY:Life drawing - Hands  or wildlife by Jill Lliffe
DESCRIPTION:
URL:https://casart.co.uk/event/life-drawing-hands-or-wildlife-by-jill-lliffe/
LOCATION:St Sebastian’s Memorial Hall\, Nine Mile Ride\, Crowthorne\, RG40 3BA\, United Kingdom
ATTACH;FMTTYPE=image/jpeg:https://casart.co.uk/wp-content/uploads/2024/11/Jill-Iliffe-Drawing.jpg
END:VEVENT
BEGIN:VEVENT
DTSTART;TZID=Europe/London:20250412T103000
DTEND;TZID=Europe/London:20250413T160000
DTSTAMP:20260421T144230
CREATED:20241124T153259Z
LAST-MODIFIED:20250312T112325Z
UID:16817-1744453800-1744560000@casart.co.uk
SUMMARY:Spring Exhibition  Saturday and Sunday  10.30 - 4.00
DESCRIPTION:
URL:https://casart.co.uk/event/spring-exhibition-3/
LOCATION:Pastoral Centre\, St. Michael’s Parish Hall\, Lower Church Road\, Sandhurst\, GU47 8HN\, United Kingdom
ATTACH;FMTTYPE=image/jpeg:https://casart.co.uk/wp-content/uploads/2023/12/Spring-Exhibition.jpg
END:VEVENT
BEGIN:VEVENT
DTSTART;TZID=Europe/London:20250516T193000
DTEND;TZID=Europe/London:20250516T213000
DTSTAMP:20260421T144230
CREATED:20241124T153620Z
LAST-MODIFIED:20250120T155108Z
UID:16819-1747423800-1747431000@casart.co.uk
SUMMARY:Still Life in oils by Connell Mc Menamin
DESCRIPTION:
URL:https://casart.co.uk/event/still-life-in-oils-by-connell-mc-menamin/
LOCATION:St Sebastian’s Memorial Hall\, Nine Mile Ride\, Crowthorne\, RG40 3BA\, United Kingdom
ATTACH;FMTTYPE=image/webp:https://casart.co.uk/wp-content/uploads/2024/11/connell_McMenamin-Still-Life.webp
END:VEVENT
END:VCALENDAR