BEGIN:VCALENDAR
VERSION:2.0
PRODID:-//Crowthorne &amp; Sandhurst       Art Society - ECPv6.15.16//NONSGML v1.0//EN
CALSCALE:GREGORIAN
METHOD:PUBLISH
X-ORIGINAL-URL:https://casart.co.uk
X-WR-CALDESC:Events for Crowthorne &amp; Sandhurst       Art Society
REFRESH-INTERVAL;VALUE=DURATION:PT1H
X-Robots-Tag:noindex
X-PUBLISHED-TTL:PT1H
BEGIN:VTIMEZONE
TZID:Europe/London
BEGIN:DAYLIGHT
TZOFFSETFROM:+0000
TZOFFSETTO:+0100
TZNAME:BST
DTSTART:20250330T010000
END:DAYLIGHT
BEGIN:STANDARD
TZOFFSETFROM:+0100
TZOFFSETTO:+0000
TZNAME:GMT
DTSTART:20251026T010000
END:STANDARD
BEGIN:DAYLIGHT
TZOFFSETFROM:+0000
TZOFFSETTO:+0100
TZNAME:BST
DTSTART:20260329T010000
END:DAYLIGHT
BEGIN:STANDARD
TZOFFSETFROM:+0100
TZOFFSETTO:+0000
TZNAME:GMT
DTSTART:20261025T010000
END:STANDARD
BEGIN:DAYLIGHT
TZOFFSETFROM:+0000
TZOFFSETTO:+0100
TZNAME:BST
DTSTART:20270328T010000
END:DAYLIGHT
BEGIN:STANDARD
TZOFFSETFROM:+0100
TZOFFSETTO:+0000
TZNAME:GMT
DTSTART:20271031T010000
END:STANDARD
END:VTIMEZONE
BEGIN:VEVENT
DTSTART;TZID=Europe/London:20260130T193000
DTEND;TZID=Europe/London:20260130T213000
DTSTAMP:20260421T063544
CREATED:20251019T093634Z
LAST-MODIFIED:20251019T093634Z
UID:16891-1769801400-1769808600@casart.co.uk
SUMMARY:Sea Scape in Oils by Vicki Norman
DESCRIPTION:Zoom Demonstration
URL:https://casart.co.uk/event/sea-scape-in-oils-by-vicki-norman/
ATTACH;FMTTYPE=image/webp:https://casart.co.uk/wp-content/uploads/2025/10/Vicki-Norman.webp
END:VEVENT
BEGIN:VEVENT
DTSTART;TZID=Europe/London:20260213T193000
DTEND;TZID=Europe/London:20260213T213000
DTSTAMP:20260421T063544
CREATED:20251019T094112Z
LAST-MODIFIED:20251019T094112Z
UID:16893-1771011000-1771018200@casart.co.uk
SUMMARY:Still Life Flowers in Oils by Lizzie Bentley
DESCRIPTION:St Sebastian’s Memorial Hall\, Nine Mile Ride\, Wokingham. RG40 3BA
URL:https://casart.co.uk/event/still-life-flowers-in-oils-by-lizzie-bentley/
ATTACH;FMTTYPE=image/webp:https://casart.co.uk/wp-content/uploads/2025/10/Lizzie-Bentley.webp
END:VEVENT
BEGIN:VEVENT
DTSTART;TZID=Europe/London:20260214T113000
DTEND;TZID=Europe/London:20260214T164500
DTSTAMP:20260421T063544
CREATED:20251019T094649Z
LAST-MODIFIED:20251019T094649Z
UID:16895-1771068600-1771087500@casart.co.uk
SUMMARY:Lizzie Bentley Workshop using Oils\, Acrylic\, or Watercolour paints
DESCRIPTION:St Sebastian’s Memorial Hall\, Nine Mile Ride\, Wokingham\, RG40 3BA
URL:https://casart.co.uk/event/lizzie-bentley-workshop-using-oils-acrylic-or-watercolour-paints/
ATTACH;FMTTYPE=image/webp:https://casart.co.uk/wp-content/uploads/2025/10/Lizzie-Bentley.webp
END:VEVENT
BEGIN:VEVENT
DTSTART;TZID=Europe/London:20260227T193000
DTEND;TZID=Europe/London:20260227T213000
DTSTAMP:20260421T063544
CREATED:20251019T110143Z
LAST-MODIFIED:20260220T122001Z
UID:16897-1772220600-1772227800@casart.co.uk
SUMMARY:CANCELLED   Clothed Figure in Mixed Media by Jo Harris. Cancelled due to illness .
DESCRIPTION:St Sebastian’s Memorial Hall\, Nine Mile Ride\, Wokingham. RG40 3BA
URL:https://casart.co.uk/event/clothed-figure-in-mixed-media-by-jo-harris/
ATTACH;FMTTYPE=image/jpeg:https://casart.co.uk/wp-content/uploads/2025/10/Jo-Harris.jpg
END:VEVENT
BEGIN:VEVENT
DTSTART;TZID=Europe/London:20260313T193000
DTEND;TZID=Europe/London:20260313T213000
DTSTAMP:20260421T063544
CREATED:20251019T110513Z
LAST-MODIFIED:20251019T110513Z
UID:16908-1773430200-1773437400@casart.co.uk
SUMMARY:Sunshine and Shadows in Pastels by Rebecca de Mendonca
DESCRIPTION:Zoom Demonstration
URL:https://casart.co.uk/event/sunshine-and-shadows-in-pastels-by-rebecca-de-mendonca/
ATTACH;FMTTYPE=image/jpeg:https://casart.co.uk/wp-content/uploads/2025/10/Rebecca-de-Mendoca.jpg
END:VEVENT
BEGIN:VEVENT
DTSTART;TZID=Europe/London:20260327T193000
DTEND;TZID=Europe/London:20260327T213000
DTSTAMP:20260421T063544
CREATED:20251019T110936Z
LAST-MODIFIED:20251019T110936Z
UID:16911-1774639800-1774647000@casart.co.uk
SUMMARY:A Mixed Media/Watercolour Demonstration by Jenny Whalley
DESCRIPTION:St Sebastian’s Memorial Hall\, Nine Mile Ride\, Wokingham. RG40 3BA
URL:https://casart.co.uk/event/a-mixed-media-watercolour-demonstration-by-jenny-whalley/
ATTACH;FMTTYPE=image/jpeg:https://casart.co.uk/wp-content/uploads/2025/01/Jenny-Whalley-Farm-Fowls.jpg
END:VEVENT
BEGIN:VEVENT
DTSTART;TZID=Europe/London:20260418T103000
DTEND;TZID=Europe/London:20260419T160000
DTSTAMP:20260421T063544
CREATED:20251019T111409Z
LAST-MODIFIED:20251020T112548Z
UID:16913-1776508200-1776614400@casart.co.uk
SUMMARY:Spring Exhibition Saturday and Sunday.                  10.30 to 4.00
DESCRIPTION:Pastoral Centre\, St. Michael’s Parish Hall Lower Church Road\, Sandhurst
URL:https://casart.co.uk/event/spring-exhibition-saturday-and-sunday-10-30-to-4-00/
ATTACH;FMTTYPE=image/jpeg:https://casart.co.uk/wp-content/uploads/2023/12/Spring-Exhibition.jpg
END:VEVENT
BEGIN:VEVENT
DTSTART;TZID=Europe/London:20260515T193000
DTEND;TZID=Europe/London:20260515T213000
DTSTAMP:20260421T063544
CREATED:20251019T111707Z
LAST-MODIFIED:20251019T111707Z
UID:16915-1778873400-1778880600@casart.co.uk
SUMMARY:Still Life in Watercolour by Susan Neale
DESCRIPTION:St Sebastian’s Memorial Hall Nine Mile Ride\, Crowthorne\, United Kingdom
URL:https://casart.co.uk/event/still-life-in-watercolour-by-susan-neale/
ATTACH;FMTTYPE=image/webp:https://casart.co.uk/wp-content/uploads/2025/10/Susan-Neale.webp
END:VEVENT
BEGIN:VEVENT
DTSTART;TZID=Europe/London:20260516T113000
DTEND;TZID=Europe/London:20260516T164500
DTSTAMP:20260421T063544
CREATED:20251019T111957Z
LAST-MODIFIED:20251019T111957Z
UID:16917-1778931000-1778949900@casart.co.uk
SUMMARY:Still Life Artist of the Year (SLAY)
DESCRIPTION:St Sebastian’s Memorial Hall Nine Mile Ride\, Crowthorne\, United Kingdom
URL:https://casart.co.uk/event/still-life-artist-of-the-year-slay/
END:VEVENT
BEGIN:VEVENT
DTSTART;TZID=Europe/London:20260605T193000
DTEND;TZID=Europe/London:20260605T213000
DTSTAMP:20260421T063544
CREATED:20251019T112242Z
LAST-MODIFIED:20251019T112242Z
UID:16919-1780687800-1780695000@casart.co.uk
SUMMARY:Watercolour Landscape by Ian McManus
DESCRIPTION:St Sebastian’s Memorial Hall Nine Mile Ride\, Crowthorne\, United Kingdom
URL:https://casart.co.uk/event/watercolour-landscape-by-ian-mcmanus/
ATTACH;FMTTYPE=image/jpeg:https://casart.co.uk/wp-content/uploads/2025/10/Ian-McManus.jpeg
END:VEVENT
BEGIN:VEVENT
DTSTART;TZID=Europe/London:20260606T113000
DTEND;TZID=Europe/London:20260606T164500
DTSTAMP:20260421T063544
CREATED:20251019T112512Z
LAST-MODIFIED:20251019T112512Z
UID:16921-1780745400-1780764300@casart.co.uk
SUMMARY:Watercolour Landscape Workshop with Ian McManus
DESCRIPTION:St Sebastian’s Memorial Hall Nine Mile Ride\, Crowthorne\, United Kingdom
URL:https://casart.co.uk/event/watercolour-landscape-workshop-with-ian-mcmanus/
ATTACH;FMTTYPE=image/jpeg:https://casart.co.uk/wp-content/uploads/2025/10/Ian-McManus.jpeg
END:VEVENT
BEGIN:VEVENT
DTSTART;TZID=Europe/London:20260619T193000
DTEND;TZID=Europe/London:20260619T213000
DTSTAMP:20260421T063544
CREATED:20251019T112740Z
LAST-MODIFIED:20251019T112740Z
UID:16923-1781897400-1781904600@casart.co.uk
SUMMARY:Demonstration by Robin Danely
DESCRIPTION:St Sebastian’s Memorial Hall Nine Mile Ride\, Crowthorne\, United Kingdom
URL:https://casart.co.uk/event/demonstration-by-robin-danely/
END:VEVENT
BEGIN:VEVENT
DTSTART;TZID=Europe/London:20260807T073000
DTEND;TZID=Europe/London:20260807T213000
DTSTAMP:20260421T063544
CREATED:20251019T130159Z
LAST-MODIFIED:20251019T130159Z
UID:16947-1786087800-1786138200@casart.co.uk
SUMMARY:BBQ
DESCRIPTION:
URL:https://casart.co.uk/event/bbq-4/
ATTACH;FMTTYPE=image/jpeg:https://casart.co.uk/wp-content/uploads/2024/01/BBQ.jpg
END:VEVENT
BEGIN:VEVENT
DTSTART;TZID=Europe/London:20260904T193000
DTEND;TZID=Europe/London:20260904T213000
DTSTAMP:20260421T063544
CREATED:20251019T113432Z
LAST-MODIFIED:20251020T112730Z
UID:16927-1788550200-1788557400@casart.co.uk
SUMMARY:Impressionist Landscape in Acrylic Gouache by Liz Baldin
DESCRIPTION:St Sebastian’s Memorial Hall Nine Mile Ride\, Crowthorne\, United Kingdom
URL:https://casart.co.uk/event/impression-landscape-in-acrylic-gouache-by-liz-baldin/
ATTACH;FMTTYPE=image/jpeg:https://casart.co.uk/wp-content/uploads/2025/10/Liz-Baldin.jpg
END:VEVENT
BEGIN:VEVENT
DTSTART;TZID=Europe/London:20260918T193000
DTEND;TZID=Europe/London:20260918T213000
DTSTAMP:20260421T063544
CREATED:20251019T113630Z
LAST-MODIFIED:20251019T113630Z
UID:16929-1789759800-1789767000@casart.co.uk
SUMMARY:Seascape in Acrylic by Susan Gray
DESCRIPTION:St Sebastian’s Memorial Hall Nine Mile Ride\, Crowthorne\, United Kingdom
URL:https://casart.co.uk/event/seascape-in-acrylic-by-susan-gray/
ATTACH;FMTTYPE=image/jpeg:https://casart.co.uk/wp-content/uploads/2025/10/Susan-Gray.jpg
END:VEVENT
BEGIN:VEVENT
DTSTART;TZID=Europe/London:20260919T113000
DTEND;TZID=Europe/London:20260919T164500
DTSTAMP:20260421T063544
CREATED:20251019T113842Z
LAST-MODIFIED:20251019T113842Z
UID:16931-1789817400-1789836300@casart.co.uk
SUMMARY:Seascape Workshop in Acrylic by Susan Gray
DESCRIPTION:
URL:https://casart.co.uk/event/seascape-workshop-in-acrylic-by-susan-gray/
ATTACH;FMTTYPE=image/jpeg:https://casart.co.uk/wp-content/uploads/2025/10/Susan-Gray.jpg
END:VEVENT
BEGIN:VEVENT
DTSTART;TZID=Europe/London:20261002T193000
DTEND;TZID=Europe/London:20261002T213000
DTSTAMP:20260421T063544
CREATED:20251019T114139Z
LAST-MODIFIED:20251019T114139Z
UID:16933-1790969400-1790976600@casart.co.uk
SUMMARY:Landscape/Seascape using a Painting Knife by Fiona Hooper
DESCRIPTION:St Sebastian’s Memorial Hall Nine Mile Ride\, Crowthorne\, United Kingdom
URL:https://casart.co.uk/event/landscape-seascape-using-a-painting-knife-by-fiona-hooper/
ATTACH;FMTTYPE=image/webp:https://casart.co.uk/wp-content/uploads/2025/10/Fiona-Hooper.webp
END:VEVENT
BEGIN:VEVENT
DTSTART;TZID=Europe/London:20261024T103000
DTEND;TZID=Europe/London:20261025T160000
DTSTAMP:20260421T063544
CREATED:20251019T114632Z
LAST-MODIFIED:20251019T114632Z
UID:16937-1792837800-1792944000@casart.co.uk
SUMMARY:Annual Exhibition Saturday and Sunday 10.30 to 4.00
DESCRIPTION:St Sebastian’s Memorial Hall Nine Mile Ride\, Crowthorne\, United Kingdom
URL:https://casart.co.uk/event/annual-exhibition-saturday-and-sunday-10-30-to-4-00/
ATTACH;FMTTYPE=image/jpeg:https://casart.co.uk/wp-content/uploads/2024/02/D-Exhibition-2015-10-24.jpg
END:VEVENT
BEGIN:VEVENT
DTSTART;TZID=Europe/London:20261106T193000
DTEND;TZID=Europe/London:20261106T213000
DTSTAMP:20260421T063544
CREATED:20251019T114812Z
LAST-MODIFIED:20251019T114812Z
UID:16939-1793993400-1794000600@casart.co.uk
SUMMARY:AGM
DESCRIPTION:St Sebastian’s Memorial Hall Nine Mile Ride\, Crowthorne\, United Kingdom
URL:https://casart.co.uk/event/agm-3/
END:VEVENT
BEGIN:VEVENT
DTSTART;TZID=Europe/London:20261120T193000
DTEND;TZID=Europe/London:20261120T213000
DTSTAMP:20260421T063544
CREATED:20251019T115139Z
LAST-MODIFIED:20251019T115139Z
UID:16941-1795203000-1795210200@casart.co.uk
SUMMARY:Landscape in Oils by Lawrie Quigly
DESCRIPTION:Zoom Demonstration
URL:https://casart.co.uk/event/landscape-in-oils-by-lawrie-quigly/
ATTACH;FMTTYPE=image/jpeg:https://casart.co.uk/wp-content/uploads/2025/10/Lawrie-Quigly.jpg
END:VEVENT
BEGIN:VEVENT
DTSTART;TZID=Europe/London:20261205T193000
DTEND;TZID=Europe/London:20261205T213000
DTSTAMP:20260421T063544
CREATED:20251019T115352Z
LAST-MODIFIED:20251019T115352Z
UID:16943-1796499000-1796506200@casart.co.uk
SUMMARY:Christmas Social
DESCRIPTION:
URL:https://casart.co.uk/event/christmas-social-3/
ATTACH;FMTTYPE=image/jpeg:https://casart.co.uk/wp-content/uploads/2023/12/ChristmasSocial.jpg
END:VEVENT
BEGIN:VEVENT
DTSTART;TZID=Europe/London:20261216T130000
DTEND;TZID=Europe/London:20261216T154500
DTSTAMP:20260421T063544
CREATED:20251019T115617Z
LAST-MODIFIED:20251019T115617Z
UID:16945-1797426000-1797435900@casart.co.uk
SUMMARY:Last Afternoon Painting session of the year.
DESCRIPTION:St Sebastian’s Memorial Hall Nine Mile Ride\, Crowthorne\, United Kingdom
URL:https://casart.co.uk/event/last-afternoon-painting-session-of-the-year/
ATTACH;FMTTYPE=image/jpeg:https://casart.co.uk/wp-content/uploads/2023/12/Wed-left.jpg
END:VEVENT
END:VCALENDAR