BEGIN:VCALENDAR
VERSION:2.0
PRODID:-//Crowthorne &amp; Sandhurst       Art Society - ECPv6.15.16//NONSGML v1.0//EN
CALSCALE:GREGORIAN
METHOD:PUBLISH
X-ORIGINAL-URL:https://casart.co.uk
X-WR-CALDESC:Events for Crowthorne &amp; Sandhurst       Art Society
REFRESH-INTERVAL;VALUE=DURATION:PT1H
X-Robots-Tag:noindex
X-PUBLISHED-TTL:PT1H
BEGIN:VTIMEZONE
TZID:Europe/London
BEGIN:DAYLIGHT
TZOFFSETFROM:+0000
TZOFFSETTO:+0100
TZNAME:BST
DTSTART:20220327T010000
END:DAYLIGHT
BEGIN:STANDARD
TZOFFSETFROM:+0100
TZOFFSETTO:+0000
TZNAME:GMT
DTSTART:20221030T010000
END:STANDARD
BEGIN:DAYLIGHT
TZOFFSETFROM:+0000
TZOFFSETTO:+0100
TZNAME:BST
DTSTART:20230326T010000
END:DAYLIGHT
BEGIN:STANDARD
TZOFFSETFROM:+0100
TZOFFSETTO:+0000
TZNAME:GMT
DTSTART:20231029T010000
END:STANDARD
BEGIN:DAYLIGHT
TZOFFSETFROM:+0000
TZOFFSETTO:+0100
TZNAME:BST
DTSTART:20240331T010000
END:DAYLIGHT
BEGIN:STANDARD
TZOFFSETFROM:+0100
TZOFFSETTO:+0000
TZNAME:GMT
DTSTART:20241027T010000
END:STANDARD
END:VTIMEZONE
BEGIN:VEVENT
DTSTART;TZID=Europe/London:20230310T193000
DTEND;TZID=Europe/London:20230310T213000
DTSTAMP:20260421T100448
CREATED:20230121T141209Z
LAST-MODIFIED:20230225T104906Z
UID:6327-1678476600-1678483800@casart.co.uk
SUMMARY:Underwater scene in mixed media by Susan Clare
DESCRIPTION:Zoom demonstration
URL:https://casart.co.uk/event/underwater-scene-in-mixed-media-by-susan-clare/
ATTACH;FMTTYPE=image/jpeg:https://casart.co.uk/wp-content/uploads/2022/12/Susan-Clare-Mar-Zoom.jpg
END:VEVENT
BEGIN:VEVENT
DTSTART;TZID=Europe/London:20230324T193000
DTEND;TZID=Europe/London:20230324T213000
DTSTAMP:20260421T100448
CREATED:20230121T141615Z
LAST-MODIFIED:20230201T144918Z
UID:6328-1679686200-1679693400@casart.co.uk
SUMMARY:African theme in mixed media by Jenny Whalley
DESCRIPTION:
URL:https://casart.co.uk/event/african-theme-in-mixed-media-by-jenny-whalley/
LOCATION:St Sebastian’s Memorial Hall\, Nine Mile Ride\, Crowthorne\, RG40 3BA\, United Kingdom
ATTACH;FMTTYPE=image/webp:https://casart.co.uk/wp-content/uploads/2022/12/Jenny-Whalley-Mar.webp
END:VEVENT
END:VCALENDAR